BEGIN:VCALENDAR
VERSION:2.0
PRODID:-//Thrive Carolinas - ECPv6.9.0//NONSGML v1.0//EN
CALSCALE:GREGORIAN
METHOD:PUBLISH
X-WR-CALNAME:Thrive Carolinas
X-ORIGINAL-URL:https://thrivecarolinas.com
X-WR-CALDESC:Events for Thrive Carolinas
REFRESH-INTERVAL;VALUE=DURATION:PT1H
X-Robots-Tag:noindex
X-PUBLISHED-TTL:PT1H
BEGIN:VTIMEZONE
TZID:UTC
BEGIN:STANDARD
TZOFFSETFROM:+0000
TZOFFSETTO:+0000
TZNAME:UTC
DTSTART:20260101T000000
END:STANDARD
END:VTIMEZONE
BEGIN:VEVENT
DTSTART;TZID=UTC:20260420T180000
DTEND;TZID=UTC:20260420T193000
DTSTAMP:20260420T093618
CREATED:20251121T154016Z
LAST-MODIFIED:20260217T172740Z
UID:10000298-1776708000-1776713400@thrivecarolinas.com
SUMMARY:Yoga and Learn: What You Need to Know About Thyroid Health
DESCRIPTION:The thyroid may be small\, but it plays a powerful role in your overall health—from energy and metabolism to mood\, temperature regulation\, and more. Join us for a practical overview of how the thyroid works and what happens when its hormones fall out of balance. \n\nWe’ll begin with a 55-minute yoga class with Suzanne Bergen\, and end with a short presentation by Thrive’s physicians. All levels are welcome; modifications will be offered. Wear your yoga clothes and bring your mat!\n\n\nTo register\, dowload the ‘Thrive Carolinas’ app on the App Store or Google Play.\nDate: Monday\, April 20\, 2026\nTime: 6 pm – 7:30 pm\nCost: $35 (FREE for Thrivers!)
URL:https://thrivecarolinas.com/event/yoga-and-learn-what-you-need-to-know-about-thyroid-health/
LOCATION:Thrive Multipurpose Room
CATEGORIES:Upcoming,Yoga,Yoga & Learn
ATTACH;FMTTYPE=image/png:https://thrivecarolinas.com/wp-content/uploads/2025/11/YL-thyroid-health.png
END:VEVENT
END:VCALENDAR