BEGIN:VCALENDAR
VERSION:2.0
PRODID:-//Thrive Carolinas - ECPv6.9.0//NONSGML v1.0//EN
CALSCALE:GREGORIAN
METHOD:PUBLISH
X-WR-CALNAME:Thrive Carolinas
X-ORIGINAL-URL:https://thrivecarolinas.com
X-WR-CALDESC:Events for Thrive Carolinas
REFRESH-INTERVAL;VALUE=DURATION:PT1H
X-Robots-Tag:noindex
X-PUBLISHED-TTL:PT1H
BEGIN:VTIMEZONE
TZID:UTC
BEGIN:STANDARD
TZOFFSETFROM:+0000
TZOFFSETTO:+0000
TZNAME:UTC
DTSTART:20220101T000000
END:STANDARD
END:VTIMEZONE
BEGIN:VEVENT
DTSTART;TZID=UTC:20220521T130000
DTEND;TZID=UTC:20220521T150000
DTSTAMP:20260423T095923
CREATED:20220426T135501Z
LAST-MODIFIED:20220426T164501Z
UID:10000139-1653138000-1653145200@thrivecarolinas.com
SUMMARY:Pilates & Reiki Workshop: Stress Less. Live More
DESCRIPTION:Hosted by Diana from Inner Magic Wellness\, Escape the stress and rejuvenate in this ultimate self-care workshop designed to escape everyday stress. Don’t let rushing\, feeling overwhelmed and busyness take over your life any longer. You’ll go from fatigued to feeling great! \n\n\n\n\nThis workshop includes:\n\nClassical Pilates Mat session\nReiki Meditation\nStretching session\nHands-on Reiki healing\nSetting intentions through journaling\nand a whole lot more!\n\nCost: $70 (Thriver Discount applies to this workshop) \nDate: Saturday\, May 21st\, 1pm – 3pm \nSpace is limited\, reserve your spot now.
URL:https://thrivecarolinas.com/event/stress-less-pilates-workshop/
LOCATION:Thrive Multipurpose Room
CATEGORIES:Upcoming
ATTACH;FMTTYPE=image/png:https://thrivecarolinas.com/wp-content/uploads/2022/04/Reiki-Workshop.png
END:VEVENT
END:VCALENDAR